BEGIN:VCALENDAR
VERSION:2.0
PRODID:icalendar-ruby
CALSCALE:GREGORIAN
METHOD:PUBLISH
BEGIN:VEVENT
DTSTAMP:20260426T022607Z
UID:15-2245085@lifepointenaz.com
DTSTART:20260820T013000Z
DTEND:20260820T023000Z
CLASS:PUBLIC
CREATED:20260425T181808
DESCRIPTION:Join us for an enriching Wednesday Night Adult Bible Study led 
 by Pastor Cathy Scharf at LifePointe Church! Delve into the depths of Scri
 pture and explore its relevance in our lives today. Pastor Cathy brings he
 r insightful teachings and compassionate wisdom to guide us through profou
 nd discussions and spiritual growth. Engage in a welcoming atmosphere wher
 e questions are encouraged\, friendships are fostered\, and faith is deepe
 ned. Whether you're seeking to deepen your understanding of the Bible or s
 imply craving a supportive community\, this Bible study is the perfect mid
 week spiritual nourishment. Come and discover the joy of learning and grow
 ing together in faith. We look forward to welcoming you every Wednesday ev
 ening at LifePointe Church!
LAST-MODIFIED:20260425T181808
LOCATION:LifePointe Church: Conference Room
SUMMARY:Adult Bible Study with Pastor Cathy
URL;VALUE=URI:https://www.lifepointenaz.com/events/adult-bible-study-with-p
 astor-cathy/2026-08-19
ATTACH;FILENAME=woman-reading-bible.jpg;FMTTYPE=image/jpeg:https://dq5pwpg1
 q8ru0.cloudfront.net/2023/10/09/23/30/13/5aa3041e-04fc-4c95-9039-a3b5759aa
 0ad/woman-reading-bible.jpg
END:VEVENT
END:VCALENDAR
