BEGIN:VCALENDAR
VERSION:2.0
PRODID:icalendar-ruby
CALSCALE:GREGORIAN
METHOD:PUBLISH
BEGIN:VEVENT
DTSTAMP:20260425T104119Z
UID:10-2233779@lifepointenaz.com
DTSTART:20261104T030000Z
DTEND:20261104T050000Z
CLASS:PUBLIC
CREATED:20260424T190519
DESCRIPTION:Celebrate Recovery is a Christ-centered\, 12-step recovery prog
 ram for anyone struggling with hurts\, habits\, and hang-ups of any kind. 
 We meet at LifePointe Church every Tuesday at 7PM in building 1\, the Wors
 hip Center. Feel free to reach out with any questions.
LAST-MODIFIED:20260424T190519
LOCATION:LifePointe Church: Building 1
SUMMARY:Celebrate Recovery
URL;VALUE=URI:https://www.lifepointenaz.com/events/celebrate-recovery/2026-
 11-03
ATTACH;FILENAME=crheader.png;FMTTYPE=image/png:https://dq5pwpg1q8ru0.cloudf
 ront.net/2023/10/09/16/29/23/a921c0f5-5e69-447f-b89c-1644d8afc2fa/crheader
 .png
END:VEVENT
END:VCALENDAR
