BEGIN:VCALENDAR
VERSION:2.0
PRODID:icalendar-ruby
CALSCALE:GREGORIAN
METHOD:PUBLISH
BEGIN:VEVENT
DTSTAMP:20260424T192320Z
UID:14-2228674@lifepointenaz.com
DTSTART:20260917T013000Z
DTEND:20260917T030000Z
CLASS:PUBLIC
CREATED:20260424T104117
DESCRIPTION:When our precious children meet the almighty God—the amazing 
 Creator of everything—our hearts fill with happiness\, excitement\, and 
 expectation! We want their hearts to be full of laughter\, their minds to 
 learn new things\, and their spirits to be endlessly creative. We are comm
 itted to giving them a safe and pure pace\, a sanctuary where our little o
 nes can explore the theachigns of Jesus and discover their special purpose
  in this big world. Through God's word\, we equip them with the strong pow
 er of the Holy Spirit\, so they can confidently share the bright hope that
  lives inside their hearts. Sunday Mornings at 10am or Wednesday Nights at
  6:30pm
LAST-MODIFIED:20260424T104117
LOCATION:LifePointe Church: Building 3
SUMMARY:Kids Group - Wednesday
URL;VALUE=URI:https://www.lifepointenaz.com/events/kids-group-wednesday/202
 6-09-16
ATTACH;FILENAME=Website event cover  (3).png;FMTTYPE=image/png:https://dq5p
 wpg1q8ru0.cloudfront.net/2023/10/11/15/05/46/f171429e-e697-41ad-bd83-be90f
 5702dfb/Website%20event%20cover%20%20(3).png
END:VEVENT
END:VCALENDAR
