BEGIN:VCALENDAR
VERSION:2.0
PRODID:icalendar-ruby
CALSCALE:GREGORIAN
METHOD:PUBLISH
BEGIN:VEVENT
DTSTAMP:20260424T105951Z
UID:30-2223949@lifepointenaz.com
DTSTART:20260920T170000Z
DTEND:20260920T180000Z
CLASS:PUBLIC
CREATED:20260423T193236
DESCRIPTION:Every Sunday morning at 10 am\, our Bible study group gathers f
 or a meaningful and insightful discussion. It's a time of profound reflect
 ion and exploration of the Scriptures\, where participants share their tho
 ughts and interpretations. The atmosphere is filled with enthusiasm and a 
 shared passion for understanding the Word of God. Through these discussion
 s\, we not only deepen our knowledge of the Bible but also strengthen our 
 bonds as a faith community\, fostering a sense of spiritual growth and con
 nection.
LAST-MODIFIED:20260423T193236
LOCATION:LifePointe Church: Room 201
SUMMARY:Sunday Adult Bible Study 
URL;VALUE=URI:https://www.lifepointenaz.com/events/sunday-adult-bible-study
 /2026-09-20
ATTACH;FILENAME=Website event cover  (13).png;FMTTYPE=image/png:https://dq5
 pwpg1q8ru0.cloudfront.net/2023/10/12/14/17/08/c89c968f-7083-4bbc-84df-544d
 879bff1e/Website%20event%20cover%20%20(13).png
END:VEVENT
END:VCALENDAR
